BEGIN:VCALENDAR
VERSION:2.0
PRODID:-//wp-events-plugin.com//7.2.3.1//EN
TZID:Europe/Madrid
X-WR-TIMEZONE:Europe/Madrid
BEGIN:VEVENT
UID:954@societatexcursionistadevalencia.org
DTSTART;TZID=Europe/Madrid:20230506T000000
DTEND;TZID=Europe/Madrid:20230506T000000
DTSTAMP:20230417T083906Z
URL:https://societatexcursionistadevalencia.org/events/dia-del-senderista-
 castellon-algimia-de-almonacid-2/
SUMMARY:Día del Senderista - Castellón - Algimia de Almonacid
DESCRIPTION:\n\n\n\n\n\n\n\n\n\n\nContinuamos con el calendario de activida
 des asociativas 2023\, anunciando de El Día del Senderista en Castellón\
 , organizado por Club Excursionista del Alto Palancia\, tendrá lugar en A
 lgimia de Almonacid (Castellón).\n\n\n Esta ruta forma parte de la Liga S
 argantanes\, donde este año el día del senderista se celebrará en cada 
 una de las provincias\, Valencia\, Castellón y Alicante.\n\n\n Se trata d
 e una marcha senderista no competitiva que tiene como objetivos fomentar l
 a actividad física en el medio natural\, la convivencia entre clubes.\n\n
 \n La ruta está formada por 13.38km y +650m de desnivel. Mientras que el 
 recorrido infantil de la liga sargantenes está formado por 5.5km y +156m 
 de desnivel.\n\n\n Precio de la actividad:\n\n\n Persona federada: 5€\n 
 NO federada: 15€\n Menores federados: 0€\n Menores NO federados: 5€\
 n\n\n\n\n Fecha cierre de inscripciones: 3 DE MAYO de 2023 (no se admitir
 án inscripciones el día de la prueba).\n\nhttps://tienda.femecv.com/acti
 vidades-federativas/dia-del-senderista-castellon-lliga-sargantanes\n\n\n\n
 \n\n\n\n\n Continuem amb el calendari d'activitats associatives 2023\, anu
 nciant del Dia del Senderista a Castelló\, organitzat per Club Excursioni
 sta de l'Alt Palància\, tindrà lloc a Algímia d'Almonesir (Castelló).\
 n\n\n Aquesta ruta forma part de la Lliga Sargantanes\, on enguany el dia 
 del senderista se celebrarà en cadascuna de les províncies\, València\,
  Castelló i Alacant.\n\n\n Es tracta d'una marxa senderista no competitiv
 a que té com a objectius fomentar l'activitat física en el medi natural\
 , la convivència entre clubs.\n\n\n La ruta està formada per 13.38km i +
 650m de desnivell. Mentre que el recorregut infantil de la lliga sarganten
 es està format per 5.5km i +156m de desnivell.\n\n\n Preu de l'activitat:
 \n\n\n Persona federada: 5€\n NO federada: 15€\n Menors federats: 0€
 \n Menors NO federats: 5€\n\n\n Data tanque d'inscripcions: 3 DE MAIG de
  2023 (no s'admetran inscripcions el dia de la prova).\n\n\nhttps://tienda
 .femecv.com/actividades-federativas/dia-del-senderista-castellon-lliga-sar
 gantanes\n\n\n\n\n\n
CATEGORIES:Secció de Marxa Nòrdica
LOCATION:Salida de las actividades de la Secció de Maxa Nòrdica\, Av. Pí
 o XII junto al Hotel Expotel\, Valencia\, Valencia\, 46009\, Valencia\, Es
 paña
X-APPLE-STRUCTURED-LOCATION;VALUE=URI;X-ADDRESS=Av. Pío XII junto al Hotel
  Expotel\, Valencia\, Valencia\, 46009\, Valencia\, España;X-APPLE-RADIUS
 =100;X-TITLE=Salida de las actividades de la Secció de Maxa Nòrdica:geo:
 0,0
END:VEVENT
BEGIN:VTIMEZONE
TZID:Europe/Madrid
X-LIC-LOCATION:Europe/Madrid
BEGIN:DAYLIGHT
DTSTART:20230326T030000
TZOFFSETFROM:+0100
TZOFFSETTO:+0200
TZNAME:CEST
END:DAYLIGHT
END:VTIMEZONE
END:VCALENDAR