BEGIN:VCALENDAR
VERSION:2.0
PRODID:-//wp-events-plugin.com//7.2.3.1//EN
TZID:Europe/Madrid
X-WR-TIMEZONE:Europe/Madrid
BEGIN:VEVENT
UID:982@societatexcursionistadevalencia.org
DTSTART;TZID=Europe/Madrid:20231029T000000
DTEND;TZID=Europe/Madrid:20231029T000000
DTSTAMP:20231015T072235Z
URL:https://societatexcursionistadevalencia.org/events/dia-del-senderista-
 valencia-femecv/
SUMMARY:Día del Senderista Valencia - FEMECV
DESCRIPTION:\nFecha y hora de finalización de la inscripción: miércoles 
 25/10/2023 a las 23:59 horas\n\n\nAdultos: Federados/as 10€ y No federad
 os/as 19€\nMenores: Federados/as 0€ y No federados/as 5€\nPara inscr
 ibirte pincha aquí\, te llevará a una página de la FEMEC\n&nbsp\;\n\n\n
 \n
ATTACH;FMTTYPE=image/jpeg:https://societatexcursionistadevalencia.org/wp-c
 ontent/uploads/2023/07/Portadas-Calendario-y-Tienda-23.png.webp
CATEGORIES:Colla de Senders,Secció de Marxa Nòrdica
END:VEVENT
BEGIN:VTIMEZONE
TZID:Europe/Madrid
X-LIC-LOCATION:Europe/Madrid
BEGIN:DAYLIGHT
DTSTART:20230326T030000
TZOFFSETFROM:+0100
TZOFFSETTO:+0200
TZNAME:CEST
END:DAYLIGHT
END:VTIMEZONE
END:VCALENDAR