BEGIN:VCALENDAR
VERSION:2.0
PRODID:-//wp-events-plugin.com//7.2.3.1//EN
TZID:Europe/Madrid
X-WR-TIMEZONE:Europe/Madrid
BEGIN:VEVENT
UID:1169@societatexcursionistadevalencia.org
DTSTART;TZID=Europe/Madrid:20231216T000000
DTEND;TZID=Europe/Madrid:20231216T000000
DTSTAMP:20231207T200116Z
URL:https://societatexcursionistadevalencia.org/events/paseo-cultural-albu
 ixech-relojes-de-sol-y-exposicion-passeig-cultural-albuixech-rellotges-de-
 sol-i-exposicio-per-angel-flores/
SUMMARY:Paseo cultural Albuixech relojes de sol y exposición / Passeig cul
 tural  Albuixech Rellotges de sol i exposició per Ángel Flores
DESCRIPTION:Día: 16 de diciembre de 2023\n\nLugar de encuentro: Pl. Ayunta
 miento de Albuixech\n\nHora: 12:00 h.\nAlbuixech: relojes de sol y exposic
 ión “Astronómic”\, por Ángel Flores\nLa población de Albuixech cue
 nta con un Parque y Observatorio Astronómico que de la mano de nuestro co
 mpañero Ángel Flores tendremos la ocasión de conocer.\n\nTambién visit
 aremos la exposición “Astronómic”\, organizada por la Associació As
 tronòmica d'Albuixech y el Ayuntamiento de Albuixech.\n\nLa actividad dur
 ará alrededor de dos horas.\n\nNota: Con el fin de hacerlo más agradable
  en todos los aspectos\, el número máximo de asistentes\, será de 24. E
 n el caso de superar ampliamente esta cifra\, se organizaría en otra fech
 a a determinar.\n\nSe requiere inscripción previa a través del teléfono
  679 185 261 antes del 15/12/2023.\n\n\n\n\n\n\nSi todavía no eres socio/
 a de nuestra entidad y quieres participar en los “Paseos culturales”\,
  es condición previa cumplimentar el documento de preinscripción. Fecha 
 tope 15/12/2023.\n\n\n\n\nDía: 16 de desembre de 2023\n\nLloc de trobada:
  Pl. Ajuntament d’Albuixech\n\nHora: 12:00 h.\nAlbuixech: Rellotges de s
 ol i exposició “Astronómic”\, per Ángel Flores    \nLa poblaci
 ó d'Albuixech compta amb un Parc i Observatori Astronòmic que de la mà 
 del nostre company Ángel Flores tindrem l'ocasió de conéixer.\n\nTambé
  visitarem l'exposició “Astronómic”\, organitzada per la Associació
  Astronòmica d'Albuixech i l'Ajuntament d'Albuixech.\n\nL'activitat durar
 à al voltant de dues hores.\n\nNota: Amb la finalitat de fer-ho més agra
 dable en tots els aspectes\, el nombre màxim d'assistents\, serà de 24. 
 En el cas de superar àmpliament aquesta xifra\, s'organitzaria en una alt
 ra data a determinar.\n\nSi encara no eres soci/a de la nostra entitat i v
 ols participar en els “Passejos culturals”\, és condició prèvia omp
 lir el document de pre-inscripció. Data màxima: fins a 15/12/2023\n\n\n\
 n\n\n\nSi encara no eres soci/a de la nostra entitat i vols participar en 
 els “Passejos culturals”\, és condició prèvia omplir el document de
  pre-inscripció. Data màxima: fins a 15/12/2023\n\n\n\n
ATTACH;FMTTYPE=image/jpeg:https://societatexcursionistadevalencia.org/wp-c
 ontent/uploads/2023/12/2023-12-16-RelojesdeSoldeAlbuixech.png
CATEGORIES:SEV-Cultura
END:VEVENT
BEGIN:VTIMEZONE
TZID:Europe/Madrid
X-LIC-LOCATION:Europe/Madrid
BEGIN:STANDARD
DTSTART:20231029T020000
TZOFFSETFROM:+0200
TZOFFSETTO:+0100
TZNAME:CET
END:STANDARD
END:VTIMEZONE
END:VCALENDAR