BEGIN:VCALENDAR
VERSION:2.0
PRODID:-//wp-events-plugin.com//7.2.3.1//EN
TZID:Europe/Madrid
X-WR-TIMEZONE:Europe/Madrid
BEGIN:VEVENT
UID:1019@societatexcursionistadevalencia.org
DTSTART;TZID=Europe/Madrid:20231124T190000
DTEND;TZID=Europe/Madrid:20231124T190000
DTSTAMP:20231201T061418Z
URL:https://societatexcursionistadevalencia.org/events/paseo-cultural-leye
 ndas-valencianas-passeig-cultural-llegendes-valencianes-per-joan-grifoll/
SUMMARY:Paseo cultural Leyendas valencianas - Passeig cultural Llegendes Va
 lencianes Per Joan Grifoll
DESCRIPTION:Día: 24 de noviembre de 2023\n\nLugar de encuentro: Torres de
 ls Serrans\n\nHora: 19:00 horas\nLeyendas valencianas\, por Joan Grifoll 
    \nLa creencia general es que las leyendas tienen una base histórica
 \, lo que las sitúa en una concepción lógica\, dado que la mayoría de 
 ellas llegó a nuestros días mediante una transmisión oral. Algunas de l
 as leyendas valencianas nacieron en los siglos XII o XIII\, época en la q
 ue la transmisión escrita era muy limitada. Lógicamente\, con el paso de
  los siglos\, la mayoría de ellas fue ampliando su perspectiva irreal\, p
 ero hoy en día es muy difícil diferenciar el desarrollo real del imagina
 rio… ¿o no lo es?\nEn esta excursión urbana vamos a visitar algunos de
  los sitios en los que nació una leyenda\, que siempre estará asociada a
  un momento histórico\, pero… ¿también a un hecho histórico?\n\n\n\n
 \n\n\nEn esta excursión urbana vamos a visitar algunos de los sitios en l
 os que nació una leyenda\, que siempre estará asociada a un momento hist
 órico\, pero… ¿también a un hecho histórico?\nITINERARIO\n- Torres d
 e Serranos\n- C/ Caballeros\n- Pza. del Mercado\n- Pza. de la Reina (Cated
 ral)\n- Pza. del Arzobispo (Catedral)\n- Pza. del Patriarca\n- Parterre\n\
 n\n\n\nNota: Con el fin de hacerlo más agradable en todos los aspectos\, 
 el número máximo de asistentes\, será de 24. En el caso de superar ampl
 iamente esta cifra\, se organizaría en otra fecha a determinar.\n\nSe req
 uiere inscripción previa a través del correo electrónico de la Sección
  de Cultura\; sevcultura@societatexcursionistadevalencia.org  Fecha máxi
 ma: hasta el 21/11/2023.\n\n\n\n \n\nSi todavía no eres socio/a de nuest
 ra entidad y quieres participar en los “Paseos culturales”\, es condic
 ión previa cumplimentar el documento de preinscripción. Fecha tope 21/11
 /2023.\n\n\n \n\n\n\n\n------------------------------\nDía: 24 de novemb
 re de 2023\n\nLloc de trobada: Torres dels Serrans\n\nHora: 19:00 h.\nLleg
 endes valencianes\, per Joan Grifoll\nLa creència general és que les lle
 gendes tenen una base històrica\, el que les situa en una concepció lòg
 ica\, atés que la majoria d’elles arribà als nostres dies mitjançant 
 una transmissió oral. Algunes de les llegendes valencianes varen nàixer 
 en els segles XII o XIII\, època en què la transmissió escrita era molt
  limitada. Lògicament\, amb el pas dels segles\, la majoria d’elles fou
  ampliant la seua perspectiva irreal\, però avui en dia és molt difícil
  diferenciar el desenvolupament real de l’imaginari…\, o no ho és?\n\
 n\n\n\n\nEn aquesta excursió urbana anem a visitar alguns dels llocs en q
 uè va nàixer una llegenda\, que sempre estarà associada a un moment his
 tòric\, pero…\, també a un fet històric?\nITINERARI\n- Torres dels Se
 rrans\n- C/ Cavallers\n- Pça. del Mercat\n- Pça. de la Reina (Catedral)\
 n- Pça. De l’Arquebisbe (Catedral)\n- Pça. del Patriarca\n- Parterre\n
 \n\n\n\nNota: Amb la finalitat de fer-ho més agradable en tots els aspect
 es\, el nombre màxim d'assistents\, serà de 24. En el cas de superar àm
 pliament aquesta xifra\, s'organitzaria en una altra data a determinar.\n\
 nSe requiere inscripción previa a través del correo electrónico de la S
 ección de Cultura\; sevcultura@societatexcursionistadevalencia.org  Fech
 a máxima: hasta el 21/11/2023.\n\n\n\n\nSi encara no eres soci/a de la no
 stra entitat i vols participar en els “Passejos culturals”\, és condi
 ció prèvia omplir el document de pre-inscripció. Data màxima: fins a 2
 1/11/2023.\n\n\n\n
ATTACH;FMTTYPE=image/jpeg:https://societatexcursionistadevalencia.org/wp-c
 ontent/uploads/2023/11/2023-11-24-LeyendasValencianas.jpg
CATEGORIES:SEV-Cultura
END:VEVENT
BEGIN:VTIMEZONE
TZID:Europe/Madrid
X-LIC-LOCATION:Europe/Madrid
BEGIN:STANDARD
DTSTART:20231029T020000
TZOFFSETFROM:+0200
TZOFFSETTO:+0100
TZNAME:CET
END:STANDARD
END:VTIMEZONE
END:VCALENDAR