BEGIN:VCALENDAR
VERSION:2.0
PRODID:-//wp-events-plugin.com//7.2.3.1//EN
TZID:Europe/Madrid
X-WR-TIMEZONE:Europe/Madrid
BEGIN:VEVENT
UID:967@societatexcursionistadevalencia.org
DTSTART;TZID=Europe/Madrid:20230531T193000
DTEND;TZID=Europe/Madrid:20230531T210000
DTSTAMP:20230522T185301Z
URL:https://societatexcursionistadevalencia.org/events/presentacio-llibre-
 mustang-lultim-regne-feudal-de-lhimalaia-carlos-gonzalez/
SUMMARY:Confèrencia Mustang\, l'últim regne feudal de l'Himàlaia Carlos 
 González
DESCRIPTION:Conferencia / Confèrencia\nMustang\, el último reino feudal d
 el Himalaya\nMustang\, l'últim regne feudal de l'Himàlaia\nCarlos Gonzá
 lez\nDía: 31 de mayo de 2023\nHora: 19:30\nLugar: Cl. Lebón\, 5-BJ.Iz. -
  46023 Valencia\nMás información aquí\n\n\n\n\n\n\n\n\n
CATEGORIES:SEV-Cultura
LOCATION:Sede Societat Excursionista de València\, Calle Lebón\, 5 - Bj. 
 Izda.\, Valencia\, Valencia\, 46023\, Valencia\, España
X-APPLE-STRUCTURED-LOCATION;VALUE=URI;X-ADDRESS=Calle Lebón\, 5 - Bj. Izda
 .\, Valencia\, Valencia\, 46023\, Valencia\, España;X-APPLE-RADIUS=100;X-
 TITLE=Sede Societat Excursionista de València:geo:0,0
END:VEVENT
BEGIN:VTIMEZONE
TZID:Europe/Madrid
X-LIC-LOCATION:Europe/Madrid
BEGIN:DAYLIGHT
DTSTART:20230326T030000
TZOFFSETFROM:+0100
TZOFFSETTO:+0200
TZNAME:CEST
END:DAYLIGHT
END:VTIMEZONE
END:VCALENDAR